BEGIN:VCALENDAR
VERSION:2.0
PRODID:-//Department Of Education//b67fd066-698e-4ea6-aed3-92d586490056
BEGIN:VTIMEZONE
TZID:Australia/Sydney
TZURL:http://tzurl.org/zoneinfo-outlook/Australia/Sydney
X-LIC-LOCATION:Australia/Sydney
BEGIN:STANDARD
TZOFFSETFROM:+1100
TZOFFSETTO:+1000
TZNAME:AEST
DTSTART:19700405T030000
RRULE:FREQ=YEARLY;BYMONTH=4;BYDAY=1SU
END:STANDARD
BEGIN:DAYLIGHT
TZOFFSETFROM:+1000
TZOFFSETTO:+1100
TZNAME:AEDT
DTSTART:19701004T020000
RRULE:FREQ=YEARLY;BYMONTH=10;BYDAY=1SU
END:DAYLIGHT
END:VTIMEZONE
CALSCALE:GREGORIAN
X-WR-TIMEZONE:Australia/Sydney
BEGIN:VEVENT
DTSTART;VALUE=DATE:20200704
DTEND;VALUE=DATE:20200720
DTSTAMP:20200704T000000Z
UID:5882c6d8-944e-407f-a553-d954a6658187
LOCATION:Springwood Public School
SUMMARY;LANGUAGE=en-us:Term 2 School Holidays
SEQUENCE:0
DESCRIPTION:Term 2 School Holidays
END:VEVENT
TRANSP:TRANSPARENT
END:VCALENDAR
