BEGIN:VCALENDAR
VERSION:2.0
PRODID:-//Department Of Education//647943f8-7281-4d0b-b0de-7d36120985d2
BEGIN:VTIMEZONE
TZID:Australia/Sydney
TZURL:http://tzurl.org/zoneinfo-outlook/Australia/Sydney
X-LIC-LOCATION:Australia/Sydney
BEGIN:STANDARD
TZOFFSETFROM:+1100
TZOFFSETTO:+1000
TZNAME:AEST
DTSTART:19700405T030000
RRULE:FREQ=YEARLY;BYMONTH=4;BYDAY=1SU
END:STANDARD
BEGIN:DAYLIGHT
TZOFFSETFROM:+1000
TZOFFSETTO:+1100
TZNAME:AEDT
DTSTART:19701004T020000
RRULE:FREQ=YEARLY;BYMONTH=10;BYDAY=1SU
END:DAYLIGHT
END:VTIMEZONE
CALSCALE:GREGORIAN
X-WR-TIMEZONE:Australia/Sydney
BEGIN:VEVENT
DTSTART;VALUE=DATE:20200720
DTEND;VALUE=DATE:20200721
DTSTAMP:20200720T000000Z
UID:2a175b12-6b21-42ea-8d77-7dce3851a38d
LOCATION:Springwood Public School
SUMMARY;LANGUAGE=en-us:Staff Development Day - Pupil Free Day
SEQUENCE:0
DESCRIPTION:Staff Development Day - Pupil Free Day
END:VEVENT
TRANSP:TRANSPARENT
END:VCALENDAR
