BEGIN:VCALENDAR
VERSION:2.0
PRODID:-//Department Of Education//5e7c6675-738f-4123-974a-a8ec411cca3e
BEGIN:VTIMEZONE
TZID:Australia/Sydney
TZURL:http://tzurl.org/zoneinfo-outlook/Australia/Sydney
X-LIC-LOCATION:Australia/Sydney
BEGIN:STANDARD
TZOFFSETFROM:+1100
TZOFFSETTO:+1000
TZNAME:AEST
DTSTART:19700405T030000
RRULE:FREQ=YEARLY;BYMONTH=4;BYDAY=1SU
END:STANDARD
BEGIN:DAYLIGHT
TZOFFSETFROM:+1000
TZOFFSETTO:+1100
TZNAME:AEDT
DTSTART:19701004T020000
RRULE:FREQ=YEARLY;BYMONTH=10;BYDAY=1SU
END:DAYLIGHT
END:VTIMEZONE
CALSCALE:GREGORIAN
X-WR-TIMEZONE:Australia/Sydney
BEGIN:VEVENT
DTSTART;VALUE=DATE:20200522
DTEND;VALUE=DATE:20200523
DTSTAMP:20200522T000000Z
UID:073caa12-3d88-41fe-a9ee-b25b5f9e133d
LOCATION:Penrith Lakes
SUMMARY;LANGUAGE=en-us:Zone Cross Country (Lower Mountains) - Penrith Lakes
SEQUENCE:0
DESCRIPTION:Zone Cross Country (Lower Mountains) - Penrith Lakes
END:VEVENT
TRANSP:TRANSPARENT
END:VCALENDAR
