BEGIN:VCALENDAR
VERSION:2.0
PRODID:-//Department Of Education//9d3bb1bd-f27c-40fc-9d55-6871b35800ef
BEGIN:VTIMEZONE
TZID:Australia/Sydney
TZURL:http://tzurl.org/zoneinfo-outlook/Australia/Sydney
X-LIC-LOCATION:Australia/Sydney
BEGIN:STANDARD
TZOFFSETFROM:+1100
TZOFFSETTO:+1000
TZNAME:AEST
DTSTART:19700405T030000
RRULE:FREQ=YEARLY;BYMONTH=4;BYDAY=1SU
END:STANDARD
BEGIN:DAYLIGHT
TZOFFSETFROM:+1000
TZOFFSETTO:+1100
TZNAME:AEDT
DTSTART:19701004T020000
RRULE:FREQ=YEARLY;BYMONTH=10;BYDAY=1SU
END:DAYLIGHT
END:VTIMEZONE
CALSCALE:GREGORIAN
X-WR-TIMEZONE:Australia/Sydney
BEGIN:VEVENT
DTSTART;VALUE=DATE:20200410
DTEND;VALUE=DATE:20200427
DTSTAMP:20200410T000000Z
UID:507d004d-aa7c-4d5c-a800-33f7a8fcac83
LOCATION:Springwood Public School
SUMMARY;LANGUAGE=en-us:Term 1 School Holidays
SEQUENCE:0
DESCRIPTION:Term 1 School Holidays
END:VEVENT
TRANSP:TRANSPARENT
END:VCALENDAR
