BEGIN:VCALENDAR
VERSION:2.0
PRODID:-//Department Of Education//2718d889-3fdb-47e1-add5-f788dee08816
BEGIN:VTIMEZONE
TZID:Australia/Sydney
TZURL:http://tzurl.org/zoneinfo-outlook/Australia/Sydney
X-LIC-LOCATION:Australia/Sydney
BEGIN:STANDARD
TZOFFSETFROM:+1100
TZOFFSETTO:+1000
TZNAME:AEST
DTSTART:19700405T030000
RRULE:FREQ=YEARLY;BYMONTH=4;BYDAY=1SU
END:STANDARD
BEGIN:DAYLIGHT
TZOFFSETFROM:+1000
TZOFFSETTO:+1100
TZNAME:AEDT
DTSTART:19701004T020000
RRULE:FREQ=YEARLY;BYMONTH=10;BYDAY=1SU
END:DAYLIGHT
END:VTIMEZONE
CALSCALE:GREGORIAN
X-WR-TIMEZONE:Australia/Sydney
BEGIN:VEVENT
DTSTART;VALUE=DATE:20200410
DTEND;VALUE=DATE:20200411
DTSTAMP:20200410T000000Z
UID:48e7e923-a149-4aef-a2c8-65f2d06b438a
LOCATION:Springwood Public School, Burns Road Springwood
SUMMARY;LANGUAGE=en-us:Good Friday Public Holiday
SEQUENCE:0
DESCRIPTION:Good Friday Public Holiday - First Day of Term 1 School Holidays
END:VEVENT
TRANSP:TRANSPARENT
END:VCALENDAR
