BEGIN:VCALENDAR
VERSION:2.0
PRODID:-//Department Of Education//6fbb1830-340d-4c74-9bb8-e908e2a83d4c
BEGIN:VTIMEZONE
TZID:Australia/Sydney
TZURL:http://tzurl.org/zoneinfo-outlook/Australia/Sydney
X-LIC-LOCATION:Australia/Sydney
BEGIN:STANDARD
TZOFFSETFROM:+1100
TZOFFSETTO:+1000
TZNAME:AEST
DTSTART:19700405T030000
RRULE:FREQ=YEARLY;BYMONTH=4;BYDAY=1SU
END:STANDARD
BEGIN:DAYLIGHT
TZOFFSETFROM:+1000
TZOFFSETTO:+1100
TZNAME:AEDT
DTSTART:19701004T020000
RRULE:FREQ=YEARLY;BYMONTH=10;BYDAY=1SU
END:DAYLIGHT
END:VTIMEZONE
CALSCALE:GREGORIAN
X-WR-TIMEZONE:Australia/Sydney
BEGIN:VEVENT
DTSTART;VALUE=DATE:20200221
DTEND;VALUE=DATE:20200222
DTSTAMP:20200221T000000Z
UID:877cb4d7-f6aa-4afb-b745-f33d3e0c7c83
LOCATION:Glenbrook Pool, Glenbrook
SUMMARY;LANGUAGE=en-us:Zone Swimming Carnival - Glenbrook Pool
SEQUENCE:0
DESCRIPTION:Zone Swimming Carnival - Glenbrook Pool
END:VEVENT
TRANSP:TRANSPARENT
END:VCALENDAR
